BEGIN:VCALENDAR
VERSION:2.0
PRODID:-//RUHX - ECPv6.5.1.4//NONSGML v1.0//EN
CALSCALE:GREGORIAN
METHOD:PUBLISH
X-WR-CALNAME:RUHX
X-ORIGINAL-URL:https://ruhx.zonkdev.uk
X-WR-CALDESC:Events for RUHX
REFRESH-INTERVAL;VALUE=DURATION:PT1H
X-Robots-Tag:noindex
X-PUBLISHED-TTL:PT1H
BEGIN:VTIMEZONE
TZID:Europe/London
BEGIN:DAYLIGHT
TZOFFSETFROM:+0000
TZOFFSETTO:+0100
TZNAME:BST
DTSTART:20250330T010000
END:DAYLIGHT
BEGIN:STANDARD
TZOFFSETFROM:+0100
TZOFFSETTO:+0000
TZNAME:GMT
DTSTART:20251026T010000
END:STANDARD
END:VTIMEZONE
BEGIN:VEVENT
DTSTART;VALUE=DATE:20250413
DTEND;VALUE=DATE:20250414
DTSTAMP:20260420T160419
CREATED:20240529T105843Z
LAST-MODIFIED:20240529T105954Z
UID:3921-1744502400-1744588799@ruhx.zonkdev.uk
SUMMARY:Paris Marathon 2025
DESCRIPTION:Race day will see you pound the pavements of the French capital’s most famous avenues and plazas.  Starting at the foot of the Arc de Triomphe\, and finishing with views of Notre Dame and the Eiffel Tower to guide you home. Every year\, this unique and spectacular setting attracts more and more entrants. There are now more than 23\,000 runners from abroad\, making up 40% of the field. \nThe Schneider Electric Marathon de Paris is now one of the biggest marathons in the world and perfectly combines a personal challenge with the chance to discover one of the world’s greatest cities.
URL:https://ruhx.zonkdev.uk/events/paris-marathon/
LOCATION:Paris\, 1 Place Charles de Gaulle\, Paris\, 75008\, France
CATEGORIES:Running
ATTACH;FMTTYPE=image/jpeg:https://ruhx.zonkdev.uk/wp-content/uploads/2024/05/Paris-Marathon-1.jpg
END:VEVENT
END:VCALENDAR