BEGIN:VCALENDAR
VERSION:2.0
PRODID:-//RUHX - ECPv6.5.1.4//NONSGML v1.0//EN
CALSCALE:GREGORIAN
METHOD:PUBLISH
X-WR-CALNAME:RUHX
X-ORIGINAL-URL:https://ruhx.zonkdev.uk
X-WR-CALDESC:Events for RUHX
REFRESH-INTERVAL;VALUE=DURATION:PT1H
X-Robots-Tag:noindex
X-PUBLISHED-TTL:PT1H
BEGIN:VTIMEZONE
TZID:Europe/London
BEGIN:DAYLIGHT
TZOFFSETFROM:+0000
TZOFFSETTO:+0100
TZNAME:BST
DTSTART:20230326T010000
END:DAYLIGHT
BEGIN:STANDARD
TZOFFSETFROM:+0100
TZOFFSETTO:+0000
TZNAME:GMT
DTSTART:20231029T010000
END:STANDARD
END:VTIMEZONE
BEGIN:VEVENT
DTSTART;VALUE=DATE:20230301
DTEND;VALUE=DATE:20230401
DTSTAMP:20260422T201255
CREATED:20230208T124942Z
LAST-MODIFIED:20230208T172318Z
UID:1943-1677628800-1680307199@ruhx.zonkdev.uk
SUMMARY:March through March
DESCRIPTION:Walk 400k steps in March to help introduce Robotic surgery at RUH Bath.\nMarch through March is a virtual steps challenge for anyone\, anywhere\, who wants to help us bring Robotic surgery to the RUH Bath. Walk 400k steps in March – around 13\,000 steps a day! \nWalk an average amount daily\, plan some big weekend adventures\, or record your steps at work. Every step you take will help introduce Robotic surgery at RUH Bath. \n\n\n\n\n\n                          \n\n\n\n\n\nRegister for the challenge today by joining our Facebook group here. \n\nJoin our Facebook group community\nComplete our registration form– this is pinned to the top of the group\nSet up your fundraising page to receive your FREE t-shirt* (you can do this on the registration form). You’ll also receive a steps tracker to help you keep track throughout March.\n\n*only those who create a fundraising page will receive their free t-shirt. \n\n\n\n\n\n\nWhy 400k steps?\nWe want to introduce Robotic surgery at RUH Bath\, which will assist with up to 400 surgeries a year – predominantly across Prostate\, Ovarian\, Cervical and Colorectal cancer. \nYour steps will help raise funds to bring innovative technology to your local hospital. \nRead more about the benefits of Robotic surgery\, and why we are raising funds for this project\, here. \nWhy not try:\n• A daily walk\n• Walking to work\n• Track your steps at the gym\n• Track your steps at work\n• Plan some big weekend exploring – we’ll even send you our favourite walking routes! \nEvent accessibility\nWant to take part in a wheelchair? You can track distance instead of steps! 400k steps equals around 17.82 miles. \nResources\nDownload the Steps tracker\n \n  \nReady to book? Join #TeamRUHX today.\n\n\n\n\n\n\n\n \nRead our frequesntly asked questions\n \n  \nExpandHide\n \n\n\nWhat is ‘March through March – 400k steps in March?\nWe’re challenging supporters of the RUH Bath to get moving and take steps to help bring Robotic surgery to the hospital. Over the 31 days in March\, walk 400\,000 steps your own way and raise funds for our new campaign. That’s roughly 13\,000 steps a day! \nAim for a daily step target\, plan big adventures to knock off chunks of steps\, and record your steps at work – there really are lots of ways to get involved.  \nOnce registered\, you will be asked to set up a Facebook Fundraising page. Once you have set a page up you will receive your FREE t-shirt. All who register will get a steps tracker\, to help you stay on track with the steps you take. \nHow do I sign up?\nJoin our Facebook group where the event is held. Once accepted\, there is a form you will need to fill in to give the charity your details\, and set up your Facebook fundraising page. This event is run using GivePanel so everything is on Facebook\, making it nice and easy for you! \nAlternatively if you do not have Facebook\, you can email us at fundraising@ruh.nhs.net to let us know you will be taking part. You can also create a JustGiving page to fundraise.\nThe link to register is here: https://givp.nl/register/bxyDgi4S  \nIs there a registration fee?\nNo! It’s free to sign up. We ask that you fundraise whatever you can to help the RUH Bath introduce Robotic surgery. \nHow many steps do I need to do?\nWe are challenging you to walk 400k steps over the month of March – that’s 400\,000 steps over 31 days. You can either walk an average amount a day (around 13\,000) or plan some big walks to knock off chunks.  \nThis event is accessible – all we ask is that you try your best. If you don’t reach 400k\, or want to set yourself a smaller distance target\, that is absolutely fine too. \nWhat will I get for signing up?\nEveryone who creates a fundraising page will receive a free t-shirt. All sign ups will receive a free steps tracker to help them keep track over the month. By joining the Facebook group\, you will be part of our exclusive community of walkers all over the UK making a difference. \nHow do I track my steps?\nYou can use an app on your phone like a built in health app or Strava\, or a fitness watch.  \nI have accessibility needs – can I still take part?\nYes\, of course! 400k steps roughly equals 17.82 miles\, so feel free to cover this distance in an alternate way ie. Wheel 17.82 miles in a wheelchair throughout March. \nHow can I fundraise?\nPlease join our Facebook group and complete your registration form. This form will let you set up a Facebook fundraising page\, or you can choose to set this up at a later date.\nIf you don’t use Facebook\, please create a JustGiving page and let us know you are taking part. \nI’ve created my fundraising page – how long until I get my t-shirt?\nWe endeavor to post all t-shirt packs within 14 days of your page being set up. Your t-shirt will be arriving by Royal Mail. If after 14 days you have not received your t-shirt please contact us to let us know.  \nCan I start the challenge before my t-shirt pack arrives?\nYes\, absolutely! We can’t wait to see your selfie in our charity top but until it arrives please start your challenge. The steps tracker will be available to download on the group page.
URL:https://ruhx.zonkdev.uk/events/march-through-march/
LOCATION:Online\, United Kingdom
CATEGORIES:Challenge,Walk
ATTACH;FMTTYPE=image/jpeg:https://ruhx.zonkdev.uk/wp-content/uploads/2023/02/1.jpg
ORGANIZER;CN="RUHX":MAILTO:fundraising@ruhx.org.uk
END:VEVENT
END:VCALENDAR