BEGIN:VCALENDAR
VERSION:2.0
PRODID:-//RUHX - ECPv6.5.1.4//NONSGML v1.0//EN
CALSCALE:GREGORIAN
METHOD:PUBLISH
X-WR-CALNAME:RUHX
X-ORIGINAL-URL:https://ruhx.zonkdev.uk
X-WR-CALDESC:Events for RUHX
REFRESH-INTERVAL;VALUE=DURATION:PT1H
X-Robots-Tag:noindex
X-PUBLISHED-TTL:PT1H
BEGIN:VTIMEZONE
TZID:Europe/London
BEGIN:DAYLIGHT
TZOFFSETFROM:+0000
TZOFFSETTO:+0100
TZNAME:BST
DTSTART:20240331T010000
END:DAYLIGHT
BEGIN:STANDARD
TZOFFSETFROM:+0100
TZOFFSETTO:+0000
TZNAME:GMT
DTSTART:20241027T010000
END:STANDARD
END:VTIMEZONE
BEGIN:VEVENT
DTSTART;VALUE=DATE:20240713
DTEND;VALUE=DATE:20240714
DTSTAMP:20260421T170442
CREATED:20240115T105251Z
LAST-MODIFIED:20240115T105251Z
UID:3034-1720828800-1720915199@ruhx.zonkdev.uk
SUMMARY:Race to the Stones 50K - Saturday
DESCRIPTION:Have you got what it takes to conquer the oldest path in Britain? The Ridgeway has endured 5\,000 years. You just have to last 100km.  \nFind out for yourself what draws 3\,000 people from around the world each year to follow in the footsteps of Romans\, Vikings and mythical warriors in their quest to reach the ancient stone circle at Avebury  \nThreshold Sports believe in opening up Ultras for All and from sign up to the finish line\, they will support you every step of the way along this incredible journey! With a completion rate of over 90% this is the perfect 1st ultra.  \nThis is a challenge for all ages\, experience and fitness levels. Whether you’re a seasoned runner\, patient plodder or weekend walker – choose to camp over the weekend\, take on 100km in one go\, or 50km in one day. Grit and determination will get you to the finish and secure those memories to last a life-time.
URL:https://ruhx.zonkdev.uk/events/race-to-the-stones-50k-saturday/
LOCATION:Lewknor\, Oxon\, OX49 5RR
CATEGORIES:Challenge,Running,Walk
ATTACH;FMTTYPE=image/webp:https://ruhx.zonkdev.uk/wp-content/uploads/2024/01/race-to-the-stones-3.webp
END:VEVENT
BEGIN:VEVENT
DTSTART;VALUE=DATE:20240713
DTEND;VALUE=DATE:20240715
DTSTAMP:20260421T170442
CREATED:20240115T105709Z
LAST-MODIFIED:20240115T105717Z
UID:3041-1720828800-1721001599@ruhx.zonkdev.uk
SUMMARY:Race to the Stones 100K
DESCRIPTION:Have you got what it takes to conquer the oldest path in Britain? The Ridgeway has endured 5\,000 years. You just have to last 100km.  \nFind out for yourself what draws 3\,000 people from around the world each year to follow in the footsteps of Romans\, Vikings and mythical warriors in their quest to reach the ancient stone circle at Avebury  \nThreshold Sports believe in opening up Ultras for All and from sign up to the finish line\, they will support you every step of the way along this incredible journey! With a completion rate of over 90% this is the perfect 1st ultra.  \nThis is a challenge for all ages\, experience and fitness levels. Whether you’re a seasoned runner\, patient plodder or weekend walker – choose to camp over the weekend\, take on 100km in one go\, or 50km in one day. Grit and determination will get you to the finish and secure those memories to last a life-time.
URL:https://ruhx.zonkdev.uk/events/race-to-the-stones-100k/
LOCATION:Lewknor\, Oxon\, OX49 5RR
CATEGORIES:Challenge,Running,Walk
ATTACH;FMTTYPE=image/webp:https://ruhx.zonkdev.uk/wp-content/uploads/2024/01/race-to-the-stones-2.webp
END:VEVENT
BEGIN:VEVENT
DTSTART;VALUE=DATE:20240714
DTEND;VALUE=DATE:20240715
DTSTAMP:20260421T170442
CREATED:20240115T105409Z
LAST-MODIFIED:20240115T105418Z
UID:3038-1720915200-1721001599@ruhx.zonkdev.uk
SUMMARY:Race to the Stones 50K - Sunday
DESCRIPTION:Have you got what it takes to conquer the oldest path in Britain? The Ridgeway has endured 5\,000 years. You just have to last 100km.  \nFind out for yourself what draws 3\,000 people from around the world each year to follow in the footsteps of Romans\, Vikings and mythical warriors in their quest to reach the ancient stone circle at Avebury  \nThreshold Sports believe in opening up Ultras for All and from sign up to the finish line\, they will support you every step of the way along this incredible journey! With a completion rate of over 90% this is the perfect 1st ultra.  \nThis is a challenge for all ages\, experience and fitness levels. Whether you’re a seasoned runner\, patient plodder or weekend walker – choose to camp over the weekend\, take on 100km in one go\, or 50km in one day. Grit and determination will get you to the finish and secure those memories to last a life-time.
URL:https://ruhx.zonkdev.uk/events/race-to-the-stones-50k-sunday/
LOCATION:Lewknor\, Oxon\, OX49 5RR
CATEGORIES:Challenge,Running,Walk
ATTACH;FMTTYPE=image/webp:https://ruhx.zonkdev.uk/wp-content/uploads/2024/01/race-to-the-stones.webp
END:VEVENT
END:VCALENDAR