BEGIN:VCALENDAR
VERSION:2.0
PRODID:-//RUHX - ECPv6.5.1.4//NONSGML v1.0//EN
CALSCALE:GREGORIAN
METHOD:PUBLISH
X-ORIGINAL-URL:https://ruhx.zonkdev.uk
X-WR-CALDESC:Events for RUHX
REFRESH-INTERVAL;VALUE=DURATION:PT1H
X-Robots-Tag:noindex
X-PUBLISHED-TTL:PT1H
BEGIN:VTIMEZONE
TZID:Europe/London
BEGIN:DAYLIGHT
TZOFFSETFROM:+0000
TZOFFSETTO:+0100
TZNAME:BST
DTSTART:20250330T010000
END:DAYLIGHT
BEGIN:STANDARD
TZOFFSETFROM:+0100
TZOFFSETTO:+0000
TZNAME:GMT
DTSTART:20251026T010000
END:STANDARD
END:VTIMEZONE
BEGIN:VEVENT
DTSTART;VALUE=DATE:20250316
DTEND;VALUE=DATE:20250317
DTSTAMP:20260420T192132
CREATED:20220727T151213Z
LAST-MODIFIED:20240328T090323Z
UID:752-1742083200-1742169599@ruhx.zonkdev.uk
SUMMARY:Bath Half Marathon 2025
DESCRIPTION:Can you go the extra mile for the RUH?\n\nThe Bath Half marathon\, or Bath Half as it’s affectionately known\, is one of the most popular city runs in the UK. You’ll take on two laps of the traffic-free course through the heart of this stunning World Heritage City. This is a fast and flat course\, so it’s perfect for first time marathon runners or seasoned pros. \nJoin #TeamRUHX to help your local hospital do more for patients\, staff\, and everyone in our community. \nWe’ll be there on the day to give you all the support you need – before\, during and after! We’re already warming up our vocal chords to make sure you get the loudest reception as you pass our cheer point. \nWhat you’ll get as part of the best team in Bath: \n\nA #TeamRUHX running vest\nPre-race day meet ups\nExclusive invite to our marquee in the Runners Village\nFundraising support with helpful hints on raising sponsorship and training\nUnrivalled enthusiasm and encouragement from our cheerers and supporters\n\nGet your charity place for 2025!\nJoin the team and go the extra mile for our local hospital. We’re asking everyone who joins #TeamRUHX to raise £200. Read the Terms and Conditions here. \nSign up now\n  \nAlready got a general entry? \nSimply fundraise as much as you can.\nStep 1: Contact us to let us know you have a place. Email: fundraising@ruhx.org.uk\nStep 2: Set up an Enthuse fundraising page here and raise as much as you can for Royal United Hospitals Bath. \n  \n\nRUHX (formerly The Forever Friends Appeal) has been privileged to have charity places in the Bath Half Marathon since 2000 shortly after the charity formed. Over the past 24 years our extraordinary runners have raised over £850\,000 for the charity and we can’t thank our runners enough for their passion and incredible support. \n\n\n\n\n                                    \n                          \n\nVolunteer\nWe need your help at the runners village or help bring a little  cheer from our designated cheer point on the route. \n\n\n                                    Volunteer
URL:https://ruhx.zonkdev.uk/events/bath-half/
LOCATION:Bath Half Start\, Royal Victoria Park\, Bath\, BA1 2LZ
CATEGORIES:Running
ATTACH;FMTTYPE=image/jpeg:https://ruhx.zonkdev.uk/wp-content/uploads/2022/07/Bath-Half-2022-team.jpg
END:VEVENT
END:VCALENDAR